BEGIN:VCALENDAR
VERSION:2.0
PRODID:-//Agape Bible College - ECPv6.15.17.1//NONSGML v1.0//EN
CALSCALE:GREGORIAN
METHOD:PUBLISH
X-WR-CALNAME:Agape Bible College
X-ORIGINAL-URL:https://agape-bible-college.org
X-WR-CALDESC:Events for Agape Bible College
REFRESH-INTERVAL;VALUE=DURATION:PT1H
X-Robots-Tag:noindex
X-PUBLISHED-TTL:PT1H
BEGIN:VTIMEZONE
TZID:America/Kentucky/Louisville
BEGIN:DAYLIGHT
TZOFFSETFROM:-0500
TZOFFSETTO:-0400
TZNAME:EDT
DTSTART:20250309T070000
END:DAYLIGHT
BEGIN:STANDARD
TZOFFSETFROM:-0400
TZOFFSETTO:-0500
TZNAME:EST
DTSTART:20251102T060000
END:STANDARD
BEGIN:DAYLIGHT
TZOFFSETFROM:-0500
TZOFFSETTO:-0400
TZNAME:EDT
DTSTART:20260308T070000
END:DAYLIGHT
BEGIN:STANDARD
TZOFFSETFROM:-0400
TZOFFSETTO:-0500
TZNAME:EST
DTSTART:20261101T060000
END:STANDARD
BEGIN:DAYLIGHT
TZOFFSETFROM:-0500
TZOFFSETTO:-0400
TZNAME:EDT
DTSTART:20270314T070000
END:DAYLIGHT
BEGIN:STANDARD
TZOFFSETFROM:-0400
TZOFFSETTO:-0500
TZNAME:EST
DTSTART:20271107T060000
END:STANDARD
END:VTIMEZONE
BEGIN:VEVENT
DTSTART;TZID=America/Kentucky/Louisville:20260421T180000
DTEND;TZID=America/Kentucky/Louisville:20260421T200000
DTSTAMP:20260420T063223
CREATED:20260114T203950Z
LAST-MODIFIED:20260114T203950Z
UID:67587-1776794400-1776801600@agape-bible-college.org
SUMMARY:Class April 21\, 2026
DESCRIPTION:
URL:https://agape-bible-college.org/event/class-april-21-2026/
CATEGORIES:Tuesday
END:VEVENT
BEGIN:VEVENT
DTSTART;TZID=America/Kentucky/Louisville:20260427T180000
DTEND;TZID=America/Kentucky/Louisville:20260427T200000
DTSTAMP:20260420T063223
CREATED:20260114T204035Z
LAST-MODIFIED:20260114T204035Z
UID:67590-1777312800-1777320000@agape-bible-college.org
SUMMARY:Class April 27\, 2026
DESCRIPTION:
URL:https://agape-bible-college.org/event/class-april-27-2026/
CATEGORIES:Monday
END:VEVENT
END:VCALENDAR